BEGIN:VCALENDAR
VERSION:2.0
PRODID:-//Worcester Youth &amp; Family Counseling Services - ECPv6.14.2//NONSGML v1.0//EN
CALSCALE:GREGORIAN
METHOD:PUBLISH
X-WR-CALNAME:Worcester Youth &amp; Family Counseling Services
X-ORIGINAL-URL:https://gowoyo.org
X-WR-CALDESC:Events for Worcester Youth &amp; Family Counseling Services
REFRESH-INTERVAL;VALUE=DURATION:PT1H
X-Robots-Tag:noindex
X-PUBLISHED-TTL:PT1H
BEGIN:VTIMEZONE
TZID:America/New_York
BEGIN:DAYLIGHT
TZOFFSETFROM:-0500
TZOFFSETTO:-0400
TZNAME:EDT
DTSTART:20230312T070000
END:DAYLIGHT
BEGIN:STANDARD
TZOFFSETFROM:-0400
TZOFFSETTO:-0500
TZNAME:EST
DTSTART:20231105T060000
END:STANDARD
END:VTIMEZONE
BEGIN:VEVENT
DTSTART;VALUE=DATE:20231014
DTEND;VALUE=DATE:20231015
DTSTAMP:20260422T222530
CREATED:20230829T205320Z
LAST-MODIFIED:20230905T194928Z
UID:10000008-1697241600-1697327999@gowoyo.org
SUMMARY:Berlin Oktoberfest
DESCRIPTION:Two stages of live music on Main Street.  Also offering Berlin’s Annual Fall Sidewalk Sale\, Food\, Beer\, Scales-n-Tails & More!  Free Shuttle available from Berlin Intermediate School provided by the Ocean Downs Casino.  Sponsored by the Town of Berlin\, Berlin Main Street\, and Berlin Chamber of Commerce.
URL:https://gowoyo.org/event/berlin-oktoberfest/
LOCATION:MD
END:VEVENT
END:VCALENDAR