BEGIN:VCALENDAR
VERSION:2.0
PRODID:-//Worcester Youth &amp; Family Counseling Services - ECPv6.14.2//NONSGML v1.0//EN
CALSCALE:GREGORIAN
METHOD:PUBLISH
X-WR-CALNAME:Worcester Youth &amp; Family Counseling Services
X-ORIGINAL-URL:https://gowoyo.org
X-WR-CALDESC:Events for Worcester Youth &amp; Family Counseling Services
REFRESH-INTERVAL;VALUE=DURATION:PT1H
X-Robots-Tag:noindex
X-PUBLISHED-TTL:PT1H
BEGIN:VTIMEZONE
TZID:America/New_York
BEGIN:DAYLIGHT
TZOFFSETFROM:-0500
TZOFFSETTO:-0400
TZNAME:EDT
DTSTART:20260308T070000
END:DAYLIGHT
BEGIN:STANDARD
TZOFFSETFROM:-0400
TZOFFSETTO:-0500
TZNAME:EST
DTSTART:20261101T060000
END:STANDARD
END:VTIMEZONE
BEGIN:VEVENT
DTSTART;TZID=America/New_York:20260422T160000
DTEND;TZID=America/New_York:20260422T180000
DTSTAMP:20260422T062014
CREATED:20251216T155220Z
LAST-MODIFIED:20251216T155220Z
UID:10000045-1776873600-1776880800@gowoyo.org
SUMMARY:April Group Event- Teamwork In Action
DESCRIPTION:Every month\, Worcester Connects does group events for mentors and mentees to come together\, get creative\, and learn more about themselves and each other. This month we are coming together to test the ways teamwork can make the dream work! \nThese events are for Worcester Connects clients and their mentors. If you are interested in coming to one of our group events to try it out or to learn more\, please contact us at (410) 641-4598 or email bdiaz@gowoyo.org. \nTransportation is available if requested at least one week in advance of the event.
URL:https://gowoyo.org/event/april-group-event-teamwork-in-action/
LOCATION:Stephen Decatur Park
END:VEVENT
END:VCALENDAR