BEGIN:VCALENDAR
VERSION:2.0
PRODID:-//Worcester Youth &amp; Family Counseling Services - ECPv6.14.2//NONSGML v1.0//EN
CALSCALE:GREGORIAN
METHOD:PUBLISH
X-WR-CALNAME:Worcester Youth &amp; Family Counseling Services
X-ORIGINAL-URL:https://gowoyo.org
X-WR-CALDESC:Events for Worcester Youth &amp; Family Counseling Services
REFRESH-INTERVAL;VALUE=DURATION:PT1H
X-Robots-Tag:noindex
X-PUBLISHED-TTL:PT1H
BEGIN:VTIMEZONE
TZID:America/New_York
BEGIN:DAYLIGHT
TZOFFSETFROM:-0500
TZOFFSETTO:-0400
TZNAME:EDT
DTSTART:20230312T070000
END:DAYLIGHT
BEGIN:STANDARD
TZOFFSETFROM:-0400
TZOFFSETTO:-0500
TZNAME:EST
DTSTART:20231105T060000
END:STANDARD
END:VTIMEZONE
BEGIN:VEVENT
DTSTART;TZID=America/New_York:20230902T193000
DTEND;TZID=America/New_York:20230902T213000
DTSTAMP:20260422T222629
CREATED:20230829T204747Z
LAST-MODIFIED:20230829T204747Z
UID:10000006-1693683000-1693690200@gowoyo.org
SUMMARY:Back to School Movie in the Park
DESCRIPTION:Bring a blanket or lawn chair and enjoy a movie at Henry Park with popcorn\, soda\, and school supplies!  This is a Briddell Family Foundation event.
URL:https://gowoyo.org/event/back-to-school-movie-in-the-park/
LOCATION:MD
END:VEVENT
BEGIN:VEVENT
DTSTART;TZID=America/New_York:20230912T100000
DTEND;TZID=America/New_York:20230912T140000
DTSTAMP:20260422T222629
CREATED:20230905T204546Z
LAST-MODIFIED:20230905T204546Z
UID:10000010-1694512800-1694527200@gowoyo.org
SUMMARY:One Stop Shop- Worcester Navigation
DESCRIPTION:
URL:https://gowoyo.org/event/one-stop-shop-worcester-navigation/
LOCATION:MD
END:VEVENT
BEGIN:VEVENT
DTSTART;TZID=America/New_York:20230915T180000
DTEND;TZID=America/New_York:20230915T203000
DTSTAMP:20260422T222629
CREATED:20230830T131008Z
LAST-MODIFIED:20230830T131008Z
UID:10000007-1694800800-1694809800@gowoyo.org
SUMMARY:Worcester Connects Presents: Ice Cream and Movie Night!
DESCRIPTION:Come out to our monthly group event for WC\, held at The Ray on Main Street in Berlin! These events are great for learning more as an interested mentee/mentor or for socializing with others in the program. \nThis month\, we are watching a movie and having some ice cream. The movie is “Monsters University” and has a G rating\, so everyone is welcome to attend! \nPlease RSVP to Kayla Figueroa at (410) 641-4598 or at kaylaf@gowoyo.org for this event. \nSee you there!
URL:https://gowoyo.org/event/worcester-connects-presents-ice-cream-and-movie-night/
LOCATION:The Ray\, 124 N. Main St.\, Suite C.\, Berlin\, MD\, 21811\, United States
END:VEVENT
END:VCALENDAR